BEGIN:VCALENDAR
VERSION:2.0
PRODID:-//Baby Week - ECPv6.15.17.1//NONSGML v1.0//EN
CALSCALE:GREGORIAN
METHOD:PUBLISH
X-WR-CALNAME:Baby Week
X-ORIGINAL-URL:https://babyweek.co.uk
X-WR-CALDESC:Events for Baby Week
REFRESH-INTERVAL;VALUE=DURATION:PT1H
X-Robots-Tag:noindex
X-PUBLISHED-TTL:PT1H
BEGIN:VTIMEZONE
TZID:Europe/London
BEGIN:DAYLIGHT
TZOFFSETFROM:+0000
TZOFFSETTO:+0100
TZNAME:BST
DTSTART:20240331T010000
END:DAYLIGHT
BEGIN:STANDARD
TZOFFSETFROM:+0100
TZOFFSETTO:+0000
TZNAME:GMT
DTSTART:20241027T010000
END:STANDARD
BEGIN:DAYLIGHT
TZOFFSETFROM:+0000
TZOFFSETTO:+0100
TZNAME:BST
DTSTART:20250330T010000
END:DAYLIGHT
BEGIN:STANDARD
TZOFFSETFROM:+0100
TZOFFSETTO:+0000
TZNAME:GMT
DTSTART:20251026T010000
END:STANDARD
BEGIN:DAYLIGHT
TZOFFSETFROM:+0000
TZOFFSETTO:+0100
TZNAME:BST
DTSTART:20260329T010000
END:DAYLIGHT
BEGIN:STANDARD
TZOFFSETFROM:+0100
TZOFFSETTO:+0000
TZNAME:GMT
DTSTART:20261025T010000
END:STANDARD
END:VTIMEZONE
BEGIN:VEVENT
DTSTART;TZID=Europe/London:20251118T093000
DTEND;TZID=Europe/London:20251118T113000
DTSTAMP:20260417T151248
CREATED:20251020T140613Z
LAST-MODIFIED:20251021T113631Z
UID:11515-1763458200-1763465400@babyweek.co.uk
SUMMARY:Abingdon Toddler World
DESCRIPTION:Toddlers World is the perfect place for young children to play\, explore\, and create in a safe and welcoming environment. Designed for children aged 5 and under\, our soft play sessions feature a range of exciting activities including a bouncy castle\, soft play zone\, a role play area\, games\, and crafts. We also have a dedicated baby area\, providing a safe and comfortable space for our tiniest visitors to enjoy. \nOur sessions take place on Tuesdays and Fridays from 9:30 AM to 11:30 AM in the sports hall\, giving families the freedom to relax while children enjoy supervised play. Please note that children must be supervised by an adult at all times to ensure a safe and enjoyable experience for everyone. \nAffordable pricing makes it easy for families to join in the fun:\nBabies (non-walking): £2.50\nInfant: £3\nToddlers: £6 \nJoin us for a fun-filled morning of play\, laughter\, and learning. We can’t wait to see you and your little one!
URL:https://babyweek.co.uk/event/abingdon-toddler-world-2/
CATEGORIES:Oxfordshire
ATTACH;FMTTYPE=image/jpeg:https://babyweek.co.uk/wp-content/uploads/2025/10/3456c173-2a8b-4e8e-ad24-ba5e7a2a8941.jpeg
END:VEVENT
END:VCALENDAR