BEGIN:VCALENDAR
VERSION:2.0
PRODID:-//Baby Week - ECPv6.15.17.1//NONSGML v1.0//EN
CALSCALE:GREGORIAN
METHOD:PUBLISH
X-WR-CALNAME:Baby Week
X-ORIGINAL-URL:https://babyweek.co.uk
X-WR-CALDESC:Events for Baby Week
REFRESH-INTERVAL;VALUE=DURATION:PT1H
X-Robots-Tag:noindex
X-PUBLISHED-TTL:PT1H
BEGIN:VTIMEZONE
TZID:Europe/London
BEGIN:DAYLIGHT
TZOFFSETFROM:+0000
TZOFFSETTO:+0100
TZNAME:BST
DTSTART:20240331T010000
END:DAYLIGHT
BEGIN:STANDARD
TZOFFSETFROM:+0100
TZOFFSETTO:+0000
TZNAME:GMT
DTSTART:20241027T010000
END:STANDARD
BEGIN:DAYLIGHT
TZOFFSETFROM:+0000
TZOFFSETTO:+0100
TZNAME:BST
DTSTART:20250330T010000
END:DAYLIGHT
BEGIN:STANDARD
TZOFFSETFROM:+0100
TZOFFSETTO:+0000
TZNAME:GMT
DTSTART:20251026T010000
END:STANDARD
BEGIN:DAYLIGHT
TZOFFSETFROM:+0000
TZOFFSETTO:+0100
TZNAME:BST
DTSTART:20260329T010000
END:DAYLIGHT
BEGIN:STANDARD
TZOFFSETFROM:+0100
TZOFFSETTO:+0000
TZNAME:GMT
DTSTART:20261025T010000
END:STANDARD
END:VTIMEZONE
BEGIN:VEVENT
DTSTART;TZID=Europe/London:20251114T100000
DTEND;TZID=Europe/London:20251121T103000
DTSTAMP:20260420T111414
CREATED:20251006T151812Z
LAST-MODIFIED:20251013T103623Z
UID:10178-1763114400-1763721000@babyweek.co.uk
SUMMARY:Baby Rhymetime
DESCRIPTION:Come and join in with our Baby Rhymetime session at Huntingdon Library for babies under 12 months old\, every Friday morning at 10am (term time only). \nFree drop in sessions. \nAdults must accompany children at all times.
URL:https://babyweek.co.uk/event/baby-rhymetime/
CATEGORIES:Cambridgeshire
ATTACH;FMTTYPE=image/jpeg:https://babyweek.co.uk/wp-content/uploads/2025/10/Rhymetime-image2.jpg
END:VEVENT
END:VCALENDAR