BEGIN:VCALENDAR
VERSION:2.0
PRODID:-//Baby Week - ECPv6.15.17.1//NONSGML v1.0//EN
CALSCALE:GREGORIAN
METHOD:PUBLISH
X-WR-CALNAME:Baby Week
X-ORIGINAL-URL:https://babyweek.co.uk
X-WR-CALDESC:Events for Baby Week
REFRESH-INTERVAL;VALUE=DURATION:PT1H
X-Robots-Tag:noindex
X-PUBLISHED-TTL:PT1H
BEGIN:VTIMEZONE
TZID:Europe/London
BEGIN:DAYLIGHT
TZOFFSETFROM:+0000
TZOFFSETTO:+0100
TZNAME:BST
DTSTART:20240331T010000
END:DAYLIGHT
BEGIN:STANDARD
TZOFFSETFROM:+0100
TZOFFSETTO:+0000
TZNAME:GMT
DTSTART:20241027T010000
END:STANDARD
BEGIN:DAYLIGHT
TZOFFSETFROM:+0000
TZOFFSETTO:+0100
TZNAME:BST
DTSTART:20250330T010000
END:DAYLIGHT
BEGIN:STANDARD
TZOFFSETFROM:+0100
TZOFFSETTO:+0000
TZNAME:GMT
DTSTART:20251026T010000
END:STANDARD
BEGIN:DAYLIGHT
TZOFFSETFROM:+0000
TZOFFSETTO:+0100
TZNAME:BST
DTSTART:20260329T010000
END:DAYLIGHT
BEGIN:STANDARD
TZOFFSETFROM:+0100
TZOFFSETTO:+0000
TZNAME:GMT
DTSTART:20261025T010000
END:STANDARD
END:VTIMEZONE
BEGIN:VEVENT
DTSTART;TZID=Europe/London:20251114T120000
DTEND;TZID=Europe/London:20251120T150000
DTSTAMP:20260420T110409
CREATED:20251029T113500Z
LAST-MODIFIED:20251029T183324Z
UID:12249-1763121600-1763650800@babyweek.co.uk
SUMMARY:Baby week at a glance
DESCRIPTION:Friday 14th Nov – Sensory room available to book between 12:00pm and 3:00pm. Please call 0113 5352125\nMonday 17th Nov – Baby sensory session 10:00am-11:30am\nTuesday 18th Nov – Baby and Toddler sensory session 10:00am-11:30am\nWednesday 19th Nov – Sensory room available to book between 09:00am and 12:00pm. Please call 0113 5352125\nThursday 20th Nov – Staff will be at Crossgates sensory session 1:00pm-3:00pm Crossgates Library (Inside Crossgates shopping centre LS15 8DT)
URL:https://babyweek.co.uk/event/baby-week-at-a-glance/
CATEGORIES:Leeds
ATTACH;FMTTYPE=image/png:https://babyweek.co.uk/wp-content/uploads/2025/10/Baby-week-25-002.png
END:VEVENT
END:VCALENDAR