BEGIN:VCALENDAR
VERSION:2.0
PRODID:-//Baby Week - ECPv6.15.17.1//NONSGML v1.0//EN
CALSCALE:GREGORIAN
METHOD:PUBLISH
X-WR-CALNAME:Baby Week
X-ORIGINAL-URL:https://babyweek.co.uk
X-WR-CALDESC:Events for Baby Week
REFRESH-INTERVAL;VALUE=DURATION:PT1H
X-Robots-Tag:noindex
X-PUBLISHED-TTL:PT1H
BEGIN:VTIMEZONE
TZID:Europe/London
BEGIN:DAYLIGHT
TZOFFSETFROM:+0000
TZOFFSETTO:+0100
TZNAME:BST
DTSTART:20240331T010000
END:DAYLIGHT
BEGIN:STANDARD
TZOFFSETFROM:+0100
TZOFFSETTO:+0000
TZNAME:GMT
DTSTART:20241027T010000
END:STANDARD
BEGIN:DAYLIGHT
TZOFFSETFROM:+0000
TZOFFSETTO:+0100
TZNAME:BST
DTSTART:20250330T010000
END:DAYLIGHT
BEGIN:STANDARD
TZOFFSETFROM:+0100
TZOFFSETTO:+0000
TZNAME:GMT
DTSTART:20251026T010000
END:STANDARD
BEGIN:DAYLIGHT
TZOFFSETFROM:+0000
TZOFFSETTO:+0100
TZNAME:BST
DTSTART:20260329T010000
END:DAYLIGHT
BEGIN:STANDARD
TZOFFSETFROM:+0100
TZOFFSETTO:+0000
TZNAME:GMT
DTSTART:20261025T010000
END:STANDARD
END:VTIMEZONE
BEGIN:VEVENT
DTSTART;TZID=Europe/London:20251120T130000
DTEND;TZID=Europe/London:20251120T150000
DTSTAMP:20260417T141400
CREATED:20251103T152743Z
LAST-MODIFIED:20251112T134828Z
UID:12593-1763643600-1763650800@babyweek.co.uk
SUMMARY:Breast Feeding Support Group
DESCRIPTION:Come and join us at one of our breastfeeding groups to chat\, share experiences and advice about your breastfeeding journey with other mothers. There is no need to book simply drop into any of the sessions.
URL:https://babyweek.co.uk/event/breast-feeding-support-group/
LOCATION:Bunnyhill Family Hub\, Hylton Lane\, Sunderland\, Washington\, SR54BW\, United Kingdom
CATEGORIES:Sunderland
ATTACH;FMTTYPE=image/png:https://babyweek.co.uk/wp-content/uploads/2025/11/Breast-feeding-2-300x169-1.png
ORGANIZER;CN="Together for Children":MAILTO:https://www.togetherforchildren.org.uk/family-h
END:VEVENT
END:VCALENDAR