BEGIN:VCALENDAR
VERSION:2.0
PRODID:-//Baby Week - ECPv6.15.17.1//NONSGML v1.0//EN
CALSCALE:GREGORIAN
METHOD:PUBLISH
X-WR-CALNAME:Baby Week
X-ORIGINAL-URL:https://babyweek.co.uk
X-WR-CALDESC:Events for Baby Week
REFRESH-INTERVAL;VALUE=DURATION:PT1H
X-Robots-Tag:noindex
X-PUBLISHED-TTL:PT1H
BEGIN:VTIMEZONE
TZID:Europe/London
BEGIN:DAYLIGHT
TZOFFSETFROM:+0000
TZOFFSETTO:+0100
TZNAME:BST
DTSTART:20240331T010000
END:DAYLIGHT
BEGIN:STANDARD
TZOFFSETFROM:+0100
TZOFFSETTO:+0000
TZNAME:GMT
DTSTART:20241027T010000
END:STANDARD
BEGIN:DAYLIGHT
TZOFFSETFROM:+0000
TZOFFSETTO:+0100
TZNAME:BST
DTSTART:20250330T010000
END:DAYLIGHT
BEGIN:STANDARD
TZOFFSETFROM:+0100
TZOFFSETTO:+0000
TZNAME:GMT
DTSTART:20251026T010000
END:STANDARD
BEGIN:DAYLIGHT
TZOFFSETFROM:+0000
TZOFFSETTO:+0100
TZNAME:BST
DTSTART:20260329T010000
END:DAYLIGHT
BEGIN:STANDARD
TZOFFSETFROM:+0100
TZOFFSETTO:+0000
TZNAME:GMT
DTSTART:20261025T010000
END:STANDARD
END:VTIMEZONE
BEGIN:VEVENT
DTSTART;TZID=Europe/London:20251120T100000
DTEND;TZID=Europe/London:20251120T110000
DTSTAMP:20260424T172935
CREATED:20251014T112345Z
LAST-MODIFIED:20251021T111941Z
UID:11066-1763632800-1763636400@babyweek.co.uk
SUMMARY:Happy Mums Peer Support Group - Brampton
DESCRIPTION:Join our free peer support group for mums and mums-to-be at Brampton Community Centre on Thursday mornings\, it’s a safe judgment-free space for mums to say whatever they need to. \nMore than 1 in 4 mums in Cumbria experience difficulties with their mental health. Whether you have a diagnosis or would like to be around others who ‘get’ what you’re going through. Happy Mums is here for you. \nAll our groups are:\n– Free\n– Open to all mums\, mums-to-be and those who identify as mums throughout the whole motherhood journey\n– Walk-in friendly – no need to book ahead\n– Accessible for wheelchairs\, buggies\, etc\n– Neuro-divergent friendly\n– Run by staff and volunteers who have their own experiences of Maternal Mental Health – we get it.\n– Child-friendly – while the focus of our sessions is on mum\, we have toys and books on hand for the little ones. \nFor more details on how to find the venue and a detailed run-down of what happens in our sessions\, head to: https://happymums.org.uk/project/thursdays-10am-brampton/
URL:https://babyweek.co.uk/event/happy-mums-peer-support-group-brampton/
CATEGORIES:Cumberland
ATTACH;FMTTYPE=image/png:https://babyweek.co.uk/wp-content/uploads/2025/10/A4-Poster-Brampton-2025.png
END:VEVENT
END:VCALENDAR