BEGIN:VCALENDAR
VERSION:2.0
PRODID:-//Baby Week - ECPv6.15.17.1//NONSGML v1.0//EN
CALSCALE:GREGORIAN
METHOD:PUBLISH
X-WR-CALNAME:Baby Week
X-ORIGINAL-URL:https://babyweek.co.uk
X-WR-CALDESC:Events for Baby Week
REFRESH-INTERVAL;VALUE=DURATION:PT1H
X-Robots-Tag:noindex
X-PUBLISHED-TTL:PT1H
BEGIN:VTIMEZONE
TZID:Europe/London
BEGIN:DAYLIGHT
TZOFFSETFROM:+0000
TZOFFSETTO:+0100
TZNAME:BST
DTSTART:20240331T010000
END:DAYLIGHT
BEGIN:STANDARD
TZOFFSETFROM:+0100
TZOFFSETTO:+0000
TZNAME:GMT
DTSTART:20241027T010000
END:STANDARD
BEGIN:DAYLIGHT
TZOFFSETFROM:+0000
TZOFFSETTO:+0100
TZNAME:BST
DTSTART:20250330T010000
END:DAYLIGHT
BEGIN:STANDARD
TZOFFSETFROM:+0100
TZOFFSETTO:+0000
TZNAME:GMT
DTSTART:20251026T010000
END:STANDARD
BEGIN:DAYLIGHT
TZOFFSETFROM:+0000
TZOFFSETTO:+0100
TZNAME:BST
DTSTART:20260329T010000
END:DAYLIGHT
BEGIN:STANDARD
TZOFFSETFROM:+0100
TZOFFSETTO:+0000
TZNAME:GMT
DTSTART:20261025T010000
END:STANDARD
END:VTIMEZONE
BEGIN:VEVENT
DTSTART;TZID=Europe/London:20251117T103000
DTEND;TZID=Europe/London:20251117T110000
DTSTAMP:20260416T023535
CREATED:20251020T093436Z
LAST-MODIFIED:20251021T113601Z
UID:11489-1763375400-1763377200@babyweek.co.uk
SUMMARY:Mum & Baby Workout Class
DESCRIPTION:Come and join us for a relaxed HIIT style workout class! \nThis class is suitable for pregnant and post-natal ladies that have been given the ‘okay’ from their midwife to exercise.\nThis is a relaxed HIIT style class that has many modifications for each stage of pregnancy and post-natal so you can always work at a pace that’s for you – whether that’s a gentler session with fully bodyweight exercises and minimal reps\, or pushing yourself and feeling the sweat!\nBabies are welcome in a sling\, car seat or pram – please feel free to bring them some toys / entertainment too 🙂 \nUse code BABYWEEK25 to try this class for FREE on Monday 17th November 2025 – bookings open from Monday 10th November using the link below!
URL:https://babyweek.co.uk/event/mum-baby-workout-class/
CATEGORIES:Leeds
ATTACH;FMTTYPE=image/jpeg:https://babyweek.co.uk/wp-content/uploads/2025/10/503813679_1288927423242687_3413041692841669349_n.jpg
END:VEVENT
END:VCALENDAR