BEGIN:VCALENDAR
VERSION:2.0
PRODID:-//Baby Week - ECPv6.15.17.1//NONSGML v1.0//EN
CALSCALE:GREGORIAN
METHOD:PUBLISH
X-WR-CALNAME:Baby Week
X-ORIGINAL-URL:https://babyweek.co.uk
X-WR-CALDESC:Events for Baby Week
REFRESH-INTERVAL;VALUE=DURATION:PT1H
X-Robots-Tag:noindex
X-PUBLISHED-TTL:PT1H
BEGIN:VTIMEZONE
TZID:Europe/London
BEGIN:DAYLIGHT
TZOFFSETFROM:+0000
TZOFFSETTO:+0100
TZNAME:BST
DTSTART:20240331T010000
END:DAYLIGHT
BEGIN:STANDARD
TZOFFSETFROM:+0100
TZOFFSETTO:+0000
TZNAME:GMT
DTSTART:20241027T010000
END:STANDARD
BEGIN:DAYLIGHT
TZOFFSETFROM:+0000
TZOFFSETTO:+0100
TZNAME:BST
DTSTART:20250330T010000
END:DAYLIGHT
BEGIN:STANDARD
TZOFFSETFROM:+0100
TZOFFSETTO:+0000
TZNAME:GMT
DTSTART:20251026T010000
END:STANDARD
BEGIN:DAYLIGHT
TZOFFSETFROM:+0000
TZOFFSETTO:+0100
TZNAME:BST
DTSTART:20260329T010000
END:DAYLIGHT
BEGIN:STANDARD
TZOFFSETFROM:+0100
TZOFFSETTO:+0000
TZNAME:GMT
DTSTART:20261025T010000
END:STANDARD
END:VTIMEZONE
BEGIN:VEVENT
DTSTART;TZID=Europe/London:20251118T100000
DTEND;TZID=Europe/London:20251118T104500
DTSTAMP:20260420T101533
CREATED:20251010T151147Z
LAST-MODIFIED:20251013T222228Z
UID:10705-1763460000-1763462700@babyweek.co.uk
SUMMARY:Pudsey Childrens Centre Rhyme time
DESCRIPTION:Come along and join us for a fun free session of songs and rhymes that will help to support the development of your babies Early sounds and language skills\nTo book : Please phone : 0113 3228232 ( places are limited )
URL:https://babyweek.co.uk/event/pudsey-childrens-centre-rhyme-time/
CATEGORIES:Leeds
ATTACH;FMTTYPE=image/jpeg:https://babyweek.co.uk/wp-content/uploads/2025/10/DSC_6350.jpg
END:VEVENT
END:VCALENDAR